BEGIN:VCALENDAR
VERSION:2.0
PRODID:-//Tukios.com/
BEGIN:VEVENT
UID:9ec4f466-ef78-41ad-a392-c728713b285f@www.berryhillfh.com
DTSTAMP:20260422T203125Z
DTSTART:20260424T190000Z
DTEND:20260424T200000Z
SUMMARY:Funeral Service
DESCRIPTION:
URL:https://www.berryhillfh.com/obituaries/carol-dinkel
LOCATION:Berryhill Funeral Home 2305 Memorial Parkway NW  Huntsville AL 
	35810
GEO:34.7533056;-86.5967275
END:VEVENT
END:VCALENDAR