BEGIN:VCALENDAR
VERSION:2.0
PRODID:-//Tukios.com/
BEGIN:VEVENT
UID:09821de9-f9fa-497d-99e6-e2fff2335e82@www.berryhillfh.com
DTSTAMP:20260423T021028Z
DTSTART:20260426T190000Z
DTEND:20260426T210000Z
SUMMARY:Visitation
DESCRIPTION:
URL:https://www.berryhillfh.com/obituaries/laura-burrough
LOCATION:Berryhill Funeral Home 2305 Memorial Parkway NW  Huntsville AL 
	35810
GEO:34.7533056;-86.5967275
END:VEVENT
END:VCALENDAR