BEGIN:VCALENDAR
VERSION:2.0
PRODID:-//Tukios.com/
BEGIN:VEVENT
UID:79e69957-c320-4227-bbbe-bdac7196ba77@www.berryhillfh.com
DTSTAMP:20260423T021540Z
DTSTART:20260427T050000Z
DTEND:20260427T060000Z
SUMMARY:Funeral Service
DESCRIPTION:
URL:https://www.berryhillfh.com/obituaries/laura-burrough
LOCATION:Berryhill Funeral Home 2305 Memorial Parkway NW  Huntsville AL 
	35810
GEO:34.7533056;-86.5967275
END:VEVENT
END:VCALENDAR