BEGIN:VCALENDAR
VERSION:2.0
PRODID:-//Tukios.com/
BEGIN:VEVENT
UID:14dd92ac-4dd7-4455-a879-2813406aeb7c@www.berryhillfh.com
DTSTAMP:20260422T003830Z
DTSTART:20260422T220000Z
DTEND:20260423T010000Z
SUMMARY:Visitation
DESCRIPTION:
URL:https://www.berryhillfh.com/obituaries/mary-gipson
LOCATION:Berryhill Funeral Home 2305 Memorial Parkway NW  Huntsville AL 
	35810
GEO:34.7533056;-86.5967275
END:VEVENT
END:VCALENDAR