BEGIN:VCALENDAR
VERSION:2.0
PRODID:-//Tukios.com/
BEGIN:VEVENT
UID:1f265b9d-462c-4902-89fd-6d1bd5366855@www.berryhillfh.com
DTSTAMP:20260422T003500Z
DTSTART:20260423T160000Z
DTEND:20260423T170000Z
SUMMARY:Funeral Service
DESCRIPTION:
URL:https://www.berryhillfh.com/obituaries/mary-gipson
LOCATION: 2305 Memorial Parkway NW  Huntsville AL 35810
GEO:34.7533056;-86.5967275
END:VEVENT
END:VCALENDAR