BEGIN:VCALENDAR
VERSION:2.0
PRODID:-//Tukios.com/
BEGIN:VEVENT
UID:43cfff9f-7dac-47a9-a2f2-c1f374de62f2@www.berryhillfh.com
DTSTAMP:20260426T002956Z
DTSTART:20260429T170000Z
DTEND:20260429T190000Z
SUMMARY:Visitation
DESCRIPTION:
URL:https://www.berryhillfh.com/obituaries/molly-ann-lotus-kanani-mckelvey
LOCATION:Berryhill Funeral Home 2305 Memorial Parkway NW  Huntsville AL 
	35810
GEO:34.7533056;-86.5967275
END:VEVENT
END:VCALENDAR