BEGIN:VCALENDAR
VERSION:2.0
PRODID:-//Tukios.com/
BEGIN:VEVENT
UID:c8642e27-100c-4bfd-974c-d766df47a38a@www.berryhillfh.com
DTSTAMP:20260422T032843Z
DTSTART:20260424T160000Z
DTEND:20260424T170000Z
SUMMARY:Graveside Service
DESCRIPTION:
URL:https://www.berryhillfh.com/obituaries/morris-phillips
LOCATION: 6810 Hwy 72 W  Huntsville AL 35806
GEO:34.7518455;-86.7017064
END:VEVENT
END:VCALENDAR