BEGIN:VCALENDAR
VERSION:2.0
PRODID:-//Tukios.com/
BEGIN:VEVENT
UID:900a83bb-a12a-4179-8cc4-0c3c1b4396a0@www.berryhillfh.com
DTSTAMP:20260420T202300Z
DTSTART:20260422T173000Z
DTEND:20260422T190000Z
SUMMARY:Visitation
DESCRIPTION:
URL:https://www.berryhillfh.com/obituaries/zelma-lafevor
LOCATION:Life Church Huntsville 2300 Memorial Parkway Southwest  
	Huntsville AL 35801
GEO:34.7166989;-86.5934485
END:VEVENT
END:VCALENDAR