BEGIN:VCALENDAR
VERSION:2.0
PRODID:-//Tukios.com/
BEGIN:VEVENT
UID:5413988e-a380-4e1f-ad8d-6d4504826fa6@www.berryhillfh.com
DTSTAMP:20260420T202658Z
DTSTART:20260422T190000Z
DTEND:20260422T200000Z
SUMMARY:Funeral Service
DESCRIPTION:
URL:https://www.berryhillfh.com/obituaries/zelma-lafevor
LOCATION:Life Church Huntsville 2300 Memorial Parkway Southwest  
	Huntsville AL 35801
GEO:34.7166989;-86.5934485
END:VEVENT
END:VCALENDAR